BEGIN:VCALENDAR
VERSION:2.0
PRODID:-//ZContent.net//ZapCalLib 1.0//EN
CALSCALE:GREGORIAN
METHOD:PUBLISH
BEGIN:VEVENT
SUMMARY:GÃ‰MDZSEM
DTSTART:20260428T140000
DTEND:20260428T180000
UID:0ToysHtUCeTP1FKPjrCdXE
DTSTAMP:20260421T081418
END:VEVENT
BEGIN:VEVENT
SUMMARY:MunkanaplÃ³ BA, szakdolgozat MA feltÃ¶ltÃ©se
DTSTART:20260429T220000
DTEND:20260429T230000
UID:CasGWCWfjjk7QPNJ48bRQU
DTSTAMP:20260421T081418
Description:A kÃ©sz munkanaplÃ³ PDF formÃ¡tumban tÃ¶rtÃ©nÅ‘ feltÃ¶ltÃ©sÃ©ne
 k hatÃ¡rideje Ã¡prilis 30.\n\nA vizsgamÅ± Ã©s hozzÃ¡ kapcsolÃ³dÃ³ teljes d
 okumentÃ¡ciÃ³\, a portfÃ³liÃ³ Ã©s a diploma prezentÃ¡ciÃ³ kÃ¶nyvtÃ¡ri adat
 bÃ¡zisba tÃ¶rtÃ©nÅ‘ feltÃ¶ltÃ©s hatÃ¡rideje mÃ¡jus 30.\nA hallgatÃ³ Ã¡ltal
  feltÃ¶ltÃ¶tt anyagok meglÃ©te feltÃ©tele a zÃ¡rÃ³vizsga folyamat megkezdÃ
 ©sÃ©nek. Ennek hiÃ¡nyÃ¡ban a hallgatÃ³ nem vehet rÃ©szt zÃ¡rÃ³vizsgÃ¡n. Ha
 tÃ¡ridÅ‘n tÃºli feltÃ¶ltÃ©sre nincs lehetÅ‘sÃ©g\, az ide tÃ¶ltÃ¶tt dokumen
 tumok a kÃ©sÅ‘bbiekben nem mÃ³dosÃ­thatÃ³k! \n\nA munkanaplÃ³ nyomtatott v
 erziÃ³jÃ¡t az IntÃ©zeti archÃ­vumÃ¡nak kell leadni. Ennek hatÃ¡rideje jÃºn
 ius 01. (hÃ©tvÃ©ge esetÃ©n a kÃ¶vetkezÅ‘ munkanap). \n\nA hallgatÃ³ kÃ¶tel
 es a diploma megszerzÃ©sÃ©hez szÃ¼ksÃ©ges Ã¶sszes digitÃ¡lis Ã©s nyomtatot
 t anyagÃ¡nak elkÃ©szÃ­tÃ©sÃ©t a diplomakiÃ¡llÃ­tÃ¡s/bemutatÃ³ installÃ¡lÃ¡
 sÃ¡nak kezdetÃ©ig befejezni Ã©s azt a szervezÅ‘knek/rendezÅ‘knek Ã¡tadni. 
END:VEVENT
BEGIN:VEVENT
SUMMARY:VÃ©gzÅ‘sÃ¶k utolsÃ³ tanÃ­tÃ¡si napja
DTSTART:20260429T220000
DTEND:20260429T230000
UID:VAGjZqap5rhy37KFWeOA2d
DTSTAMP:20260421T081418
END:VEVENT
BEGIN:VEVENT
SUMMARY:BogyÃ³lÃ© leadÃ¡si hatÃ¡ridÅ‘
DTSTART:20260429T220000
DTEND:20260430T215900
UID:c5DR1Jt8U7U0CtOv70Oqif
DTSTAMP:20260421T081418
END:VEVENT
BEGIN:VEVENT
SUMMARY:VÃ©gzÅ‘s teregetÃ©s 
DTSTART:20260506T220000
DTEND:20260506T230000
UID:x0q4LFkHUnqPfGZZg8sGtF
DTSTAMP:20260421T081418
END:VEVENT
BEGIN:VEVENT
SUMMARY:Nem vÃ©gzÅ‘sÃ¶k vizsgÃ¡ra jelentkezÃ©se a Neptunban
DTSTART:20260510T220000
DTEND:20260510T230000
UID:EfUQs1u8yIvm9yQ5PDtcbJ
DTSTAMP:20260421T081418
END:VEVENT
BEGIN:VEVENT
SUMMARY:3. Diploma elÅ‘prezentÃ¡ciÃ³ (90%)
DTSTART:20260511T220000
DTEND:20260513T230000
UID:EfD6s6cN55HtbOI1QP0dOz
DTSTAMP:20260421T081418
END:VEVENT
BEGIN:VEVENT
SUMMARY:TipozÃ³na megnyitÃ³
DTSTART:20260514T150000
DTEND:20260514T210000
UID:TEf65P1ObBbbcGkUivUscO
DTSTAMP:20260421T081418
END:VEVENT
BEGIN:VEVENT
SUMMARY:UtolsÃ³ tanÃ­tÃ¡si nap (nem vÃ©gzÅ‘sÃ¶k szÃ¡mÃ¡ra)
DTSTART:20260522T220000
DTEND:20260522T230000
UID:QqD87vVIMIuMMczjYj5NUC
DTSTAMP:20260421T081418
END:VEVENT
BEGIN:VEVENT
SUMMARY:MA 1 prezentÃ¡ciÃ³ Ã©s kiÃ¡llÃ­tÃ¡s 
DTSTART:20260526T220000
DTEND:20260527T210000
UID:DwTw8fa1FEHPZA63gt04g6
DTSTAMP:20260421T081418
END:VEVENT
BEGIN:VEVENT
SUMMARY:MA 1 angol prezentÃ¡ciÃ³ 
DTSTART:20260526T220000
DTEND:20260527T210000
UID:J7qZKyvLvXVJBLMuiJbMpo
DTSTAMP:20260421T081418
END:VEVENT
BEGIN:VEVENT
SUMMARY:BA 2. Ã©vfolyam prezentÃ¡ciÃ³
DTSTART:20260527T220000
DTEND:20260528T210000
UID:8BlmqrQgJAPXyA0EFRjkv3
DTSTAMP:20260421T081418
END:VEVENT
BEGIN:VEVENT
SUMMARY:BA 1. Ã©vfolyam prezentÃ¡ciÃ³
DTSTART:20260528T220000
DTEND:20260529T210000
UID:HjSQJQj0O6mlPkgq0x71i4
DTSTAMP:20260421T081418
END:VEVENT
BEGIN:VEVENT
SUMMARY:A kÃ©sz tÃ¶rdelt, grafikusan megtervezett Ã©s vÃ©glegesÃ­tett diplo
 maprezi Ã©s portfÃ³liÃ³ feltÃ¶ltÃ©se a kÃ¶nyvtÃ¡ri adatbÃ¡zisba.
DTSTART:20260529T220000
DTEND:20260529T230000
UID:IMeTYcvnCJkpunGapLDFJj
DTSTAMP:20260421T081418
END:VEVENT
BEGIN:VEVENT
SUMMARY:MunkanaplÃ³ nyomtatott, intÃ©zeti pÃ©ldÃ¡nyÃ¡nak leadÃ¡sa
DTSTART:20260531T220000
DTEND:20260531T230000
UID:nIbJWTvfx7kxg73SETgRo9
DTSTAMP:20260421T081418
END:VEVENT
BEGIN:VEVENT
SUMMARY:DiplomakiÃ¡llÃ­tÃ¡s szÃ¡llÃ­tÃ¡s+installÃ¡lÃ¡s
DTSTART:20260531T220000
DTEND:20260603T230000
UID:rU4mJaFWxcvA94wZKFyFg7
DTSTAMP:20260421T081418
END:VEVENT
BEGIN:VEVENT
SUMMARY:A diplomakiÃ¡lltÃ¡s megtekinthetÅ‘
DTSTART:20260604T220000
DTEND:20260604T230000
UID:318APu03UxUEeCqSkBCfcC
DTSTAMP:20260421T081418
END:VEVENT
BEGIN:VEVENT
SUMMARY:DiplomakiÃ¡lltÃ¡s megnyitÃ³
DTSTART:20260612T220000
DTEND:20260612T230000
UID:eKCudyL3tSAyOvpsAjvINo
DTSTAMP:20260421T081418
END:VEVENT
BEGIN:VEVENT
SUMMARY:DiplomavÃ©dÃ©sek BA, MA
DTSTART:20260614T220000
DTEND:20260618T230000
UID:HjHDZgPemVseJqrIssEIxS
DTSTAMP:20260421T081418
END:VEVENT
BEGIN:VEVENT
SUMMARY:TeregetÃ©s BA
DTSTART:20260614T220000
DTEND:20260615T230000
UID:Yzj61ertlPCsLd76rImVqx
DTSTAMP:20260421T081418
END:VEVENT
BEGIN:VEVENT
SUMMARY:MÃºzeumok Ã‰jszakÃ¡ja 
DTSTART:20260620T160000
DTEND:20260620T210000
UID:PmHroREpoC4lVbprsX63g0
DTSTAMP:20260421T081418
END:VEVENT
BEGIN:VEVENT
SUMMARY:FelvÃ©teli 
DTSTART:20260621T220000
DTEND:20260625T230000
UID:kO5nU4urV1PdDaeDHdWXwO
DTSTAMP:20260421T081418
END:VEVENT
BEGIN:VEVENT
SUMMARY:DiplomakiÃ¡llÃ­tÃ¡s bontÃ¡s
DTSTART:20260630T220000
DTEND:20260630T230000
UID:SlPiiB77FjsdcFHPZyP6HN
DTSTAMP:20260421T081418
END:VEVENT
BEGIN:VEVENT
SUMMARY:OklevÃ©lÃ¡tadÃ³ 
DTSTART:20260701T220000
DTEND:20260702T230000
UID:xiPWcAsSQVNGmhrVQY2tzN
DTSTAMP:20260421T081418
END:VEVENT
BEGIN:VEVENT
SUMMARY:DesignAIR mÅ±vÃ©sztelep (a dÃ¡tum mÃ©g vÃ¡ltozhat)
DTSTART:20260820T220000
DTEND:20260829T230000
UID:TKrU9cLyuEdWph2PWq6ASH
DTSTAMP:20260421T081418
END:VEVENT
END:VCALENDAR
